BEGIN:VCALENDAR
VERSION:2.0
PRODID:icalendar-ruby
CALSCALE:GREGORIAN
METHOD:PUBLISH
BEGIN:VEVENT
DTSTAMP:20260424T083055Z
UID:9-1581880@midwayassembly.tithelysetup5.com
DTSTART:20260510T154500Z
DTEND:20260510T170000Z
CLASS:PUBLIC
CREATED:20260423T202222
DESCRIPTION:Morning Worship
LAST-MODIFIED:20260423T202222
LOCATION:Adults - Sanctuary\, Kids - Upstairs
SUMMARY:Morning Worship
URL;VALUE=URI:https://midwayassembly.online/events/morning-worship/2026-05-
 10
ATTACH;FILENAME=slide-72.jpg;FMTTYPE=image/jpeg:https://dq5pwpg1q8ru0.cloud
 front.net/2020/05/11/11/22/31/b54e4ff4-eea3-40ed-8b0b-1a1c7874a1fb/slide-7
 2.jpg
END:VEVENT
END:VCALENDAR
